BEGIN:VCALENDAR
VERSION:2.0
PRODID:-// - ECPv6.15.20//NONSGML v1.0//EN
CALSCALE:GREGORIAN
METHOD:PUBLISH
X-ORIGINAL-URL:https://blaeserchor-reusch.de
X-WR-CALDESC:Veranstaltungen für 
REFRESH-INTERVAL;VALUE=DURATION:PT1H
X-Robots-Tag:noindex
X-PUBLISHED-TTL:PT1H
BEGIN:VTIMEZONE
TZID:Europe/Berlin
BEGIN:DAYLIGHT
TZOFFSETFROM:+0100
TZOFFSETTO:+0200
TZNAME:CEST
DTSTART:20230326T010000
END:DAYLIGHT
BEGIN:STANDARD
TZOFFSETFROM:+0200
TZOFFSETTO:+0100
TZNAME:CET
DTSTART:20231029T010000
END:STANDARD
BEGIN:DAYLIGHT
TZOFFSETFROM:+0100
TZOFFSETTO:+0200
TZNAME:CEST
DTSTART:20240331T010000
END:DAYLIGHT
BEGIN:STANDARD
TZOFFSETFROM:+0200
TZOFFSETTO:+0100
TZNAME:CET
DTSTART:20241027T010000
END:STANDARD
BEGIN:DAYLIGHT
TZOFFSETFROM:+0100
TZOFFSETTO:+0200
TZNAME:CEST
DTSTART:20250330T010000
END:DAYLIGHT
BEGIN:STANDARD
TZOFFSETFROM:+0200
TZOFFSETTO:+0100
TZNAME:CET
DTSTART:20251026T010000
END:STANDARD
END:VTIMEZONE
BEGIN:VEVENT
DTSTART;TZID=Europe/Berlin:20241110T130000
DTEND;TZID=Europe/Berlin:20241110T143000
DTSTAMP:20260423T004248
CREATED:20241108T133756Z
LAST-MODIFIED:20241108T133756Z
UID:4578-1731243600-1731249000@blaeserchor-reusch.de
SUMMARY:Kirchweihumzug Weigenheim
DESCRIPTION:
URL:https://blaeserchor-reusch.de/event/kirchweihumzug-weigenheim-2
CATEGORIES:Auftritte
END:VEVENT
BEGIN:VEVENT
DTSTART;TZID=Europe/Berlin:20241117T101500
DTEND;TZID=Europe/Berlin:20241117T113000
DTSTAMP:20260423T004248
CREATED:20241108T133236Z
LAST-MODIFIED:20241108T134434Z
UID:4574-1731838500-1731843000@blaeserchor-reusch.de
SUMMARY:Festakt zum Volkstrauertag der Gemeinde Weigenheim in Geckenheim
DESCRIPTION:
URL:https://blaeserchor-reusch.de/event/kirchweihumzug-weigenheim
CATEGORIES:Auftritte
END:VEVENT
BEGIN:VEVENT
DTSTART;TZID=Europe/Berlin:20241129T190000
DTEND;TZID=Europe/Berlin:20241129T200000
DTSTAMP:20260423T004248
CREATED:20241108T142817Z
LAST-MODIFIED:20241108T142817Z
UID:4583-1732906800-1732910400@blaeserchor-reusch.de
SUMMARY:Weihnachtsmarkt Bad Windsheim
DESCRIPTION:
URL:https://blaeserchor-reusch.de/event/weihnachtsmarkt-bad-windsheim-2
CATEGORIES:Auftritte
END:VEVENT
END:VCALENDAR