BEGIN:VCALENDAR
VERSION:2.0
PRODID:-// - ECPv6.15.20//NONSGML v1.0//EN
CALSCALE:GREGORIAN
METHOD:PUBLISH
X-ORIGINAL-URL:https://blaeserchor-reusch.de
X-WR-CALDESC:Veranstaltungen für 
REFRESH-INTERVAL;VALUE=DURATION:PT1H
X-Robots-Tag:noindex
X-PUBLISHED-TTL:PT1H
BEGIN:VTIMEZONE
TZID:Europe/Berlin
BEGIN:DAYLIGHT
TZOFFSETFROM:+0100
TZOFFSETTO:+0200
TZNAME:CEST
DTSTART:20240331T010000
END:DAYLIGHT
BEGIN:STANDARD
TZOFFSETFROM:+0200
TZOFFSETTO:+0100
TZNAME:CET
DTSTART:20241027T010000
END:STANDARD
BEGIN:DAYLIGHT
TZOFFSETFROM:+0100
TZOFFSETTO:+0200
TZNAME:CEST
DTSTART:20250330T010000
END:DAYLIGHT
BEGIN:STANDARD
TZOFFSETFROM:+0200
TZOFFSETTO:+0100
TZNAME:CET
DTSTART:20251026T010000
END:STANDARD
BEGIN:DAYLIGHT
TZOFFSETFROM:+0100
TZOFFSETTO:+0200
TZNAME:CEST
DTSTART:20260329T010000
END:DAYLIGHT
BEGIN:STANDARD
TZOFFSETFROM:+0200
TZOFFSETTO:+0100
TZNAME:CET
DTSTART:20261025T010000
END:STANDARD
END:VTIMEZONE
BEGIN:VEVENT
DTSTART;TZID=Europe/Berlin:20250405T193000
DTEND;TZID=Europe/Berlin:20250405T233000
DTSTAMP:20260422T165152
CREATED:20250123T152142Z
LAST-MODIFIED:20250209T200025Z
UID:4620-1743881400-1743895800@blaeserchor-reusch.de
SUMMARY:Frühlingskonzert in der Musikhalle
DESCRIPTION:Frühlingskonzert in der Musikhalle. Saalöffnung erfolgt bereits um 18.30 Uhr.
URL:https://blaeserchor-reusch.de/event/fruehlingskonzert-in-der-musikhalle-2
LOCATION:Musikhalle Reusch\, Reusch 76\, Weigenheim\, Bayern\, 97215
CATEGORIES:Auftritte
END:VEVENT
END:VCALENDAR